BEGIN:VCALENDAR
VERSION:2.0
PRODID:-//Inter îles Boules Club - ECPv6.15.17//NONSGML v1.0//EN
CALSCALE:GREGORIAN
METHOD:PUBLISH
X-ORIGINAL-URL:https://ncpetanque.com
X-WR-CALDESC:Évènements pour Inter îles Boules Club
REFRESH-INTERVAL;VALUE=DURATION:PT1H
X-Robots-Tag:noindex
X-PUBLISHED-TTL:PT1H
BEGIN:VTIMEZONE
TZID:Europe/Paris
BEGIN:DAYLIGHT
TZOFFSETFROM:+0100
TZOFFSETTO:+0200
TZNAME:CEST
DTSTART:20250330T010000
END:DAYLIGHT
BEGIN:STANDARD
TZOFFSETFROM:+0200
TZOFFSETTO:+0100
TZNAME:CET
DTSTART:20251026T010000
END:STANDARD
BEGIN:DAYLIGHT
TZOFFSETFROM:+0100
TZOFFSETTO:+0200
TZNAME:CEST
DTSTART:20260329T010000
END:DAYLIGHT
BEGIN:STANDARD
TZOFFSETFROM:+0200
TZOFFSETTO:+0100
TZNAME:CET
DTSTART:20261025T010000
END:STANDARD
BEGIN:DAYLIGHT
TZOFFSETFROM:+0100
TZOFFSETTO:+0200
TZNAME:CEST
DTSTART:20270328T010000
END:DAYLIGHT
BEGIN:STANDARD
TZOFFSETFROM:+0200
TZOFFSETTO:+0100
TZNAME:CET
DTSTART:20271031T010000
END:STANDARD
END:VTIMEZONE
BEGIN:VEVENT
DTSTART;TZID=Europe/Paris:20260411T110000
DTEND;TZID=Europe/Paris:20260411T180000
DTSTAMP:20260419T170844
CREATED:20260329T102012Z
LAST-MODIFIED:20260329T102518Z
UID:911-1775905200-1775930400@ncpetanque.com
SUMMARY:Tournoi de pétanque organisé par Jason et Nathan PAKAINA
DESCRIPTION:Tournoi de pétanque organisé par Jason et Nathan PAKAINA\nSamedi 11 avril 2026 au Boulodrome de BOULARI …\nInscriptions: à partir de 11h00\n\n4000 frs par équipe\n2000 frs remise\n\nJet du bouchon: à 13h00\n\n1er prix    – 60 000frs\n2ème prix  – 40 000frs\n3ème prix  – 20 000frs\n4ème prix  – 15 000frs\n5ème prix  – 20kg de poisson\n6ème prix  – 10kg de poisson\n7ème prix  –  2 poches de côtes de porcs + 1 balles de riz\n8ème prix  – 2 cartons de poulet + 1 balles de riz\n\nJ’peux pas j’ai pétanque \nRESTAURATION SUR PLACE\, \nVENEZ VOUS REGALER
URL:https://ncpetanque.com/evenement/tournoi-de-petanque-2/
CATEGORIES:Tournoi de pétanque
ATTACH;FMTTYPE=image/jpeg:https://ncpetanque.com/wp-content/uploads/2026/03/389ffe167e85b638bf6457489306b715.jpeg
END:VEVENT
END:VCALENDAR