BEGIN:VCALENDAR
VERSION:2.0
PRODID:-//Inter îles Boules Club - ECPv6.15.17//NONSGML v1.0//EN
CALSCALE:GREGORIAN
METHOD:PUBLISH
X-WR-CALNAME:Inter îles Boules Club
X-ORIGINAL-URL:https://ncpetanque.com
X-WR-CALDESC:Évènements pour Inter îles Boules Club
REFRESH-INTERVAL;VALUE=DURATION:PT1H
X-Robots-Tag:noindex
X-PUBLISHED-TTL:PT1H
BEGIN:VTIMEZONE
TZID:Europe/Paris
BEGIN:DAYLIGHT
TZOFFSETFROM:+0100
TZOFFSETTO:+0200
TZNAME:CEST
DTSTART:20250330T010000
END:DAYLIGHT
BEGIN:STANDARD
TZOFFSETFROM:+0200
TZOFFSETTO:+0100
TZNAME:CET
DTSTART:20251026T010000
END:STANDARD
BEGIN:DAYLIGHT
TZOFFSETFROM:+0100
TZOFFSETTO:+0200
TZNAME:CEST
DTSTART:20260329T010000
END:DAYLIGHT
BEGIN:STANDARD
TZOFFSETFROM:+0200
TZOFFSETTO:+0100
TZNAME:CET
DTSTART:20261025T010000
END:STANDARD
BEGIN:DAYLIGHT
TZOFFSETFROM:+0100
TZOFFSETTO:+0200
TZNAME:CEST
DTSTART:20270328T010000
END:DAYLIGHT
BEGIN:STANDARD
TZOFFSETFROM:+0200
TZOFFSETTO:+0100
TZNAME:CET
DTSTART:20271031T010000
END:STANDARD
END:VTIMEZONE
BEGIN:VEVENT
DTSTART;TZID=Europe/Paris:20260516T110000
DTEND;TZID=Europe/Paris:20260516T180000
DTSTAMP:20260419T185017
CREATED:20260329T093400Z
LAST-MODIFIED:20260329T100404Z
UID:897-1778929200-1778954400@ncpetanque.com
SUMMARY:Tournoi de pétanque UTU et TEVA
DESCRIPTION:Tournoi de pétanque UTU et TEVA\n(Buvette sur place)\nLe  samedi 16 mai 2026 au Ouen Toro\nInscriptions: à 11h00\n\n4000 francs l’équipe\n2000 francs par personne\n\nJet du bouchon: à 12h00\n  \n\n1er prix    – 50 000 FRANCS XPF\n2ème prix  – 30 000 FRANCS XPF\n3ème prix  – 10 000 FRANCS XPF\n4ème prix  – 10 000 FRANCS XPF\n5ème prix  – 6 000 FRANCS XPF\n6ème prix  – 6 000 FRANCS XPF\n7ème prix  – 6 000 FRANCS XPF\n8ème prix  – 6 000 FRANCS XPF\n\n(Buvette sur place)
URL:https://ncpetanque.com/evenement/tournoi-de-petanque-utu-et-teva/
CATEGORIES:Tournoi de pétanque
ATTACH;FMTTYPE=image/jpeg:https://ncpetanque.com/wp-content/uploads/2026/03/d496661e1ea950ff9ede2050e832ea7d.jpeg
END:VEVENT
END:VCALENDAR